BEGIN:VCALENDAR
VERSION:2.0
PRODID:-//ChamberMaster//Event Calendar 2.0//EN
METHOD:PUBLISH
X-PUBLISHED-TTL:P3D
REFRESH-INTERVAL:P3D
CALSCALE:GREGORIAN
BEGIN:VEVENT
DTSTART:20260509T183000Z
DTEND:20260509T200000Z
X-MICROSOFT-CDO-ALLDAYEVENT:FALSE
SUMMARY:GALA Education Saturday: Pastel Painting Make-and-Take Event with Donna Stevens
DESCRIPTION:Join the community at the Gresham Council Chambers for a hands-on introduction to pastel painting. Local artist Donna Stevens will lead a simple paint along session where participants will learn to work with dry pastel sticks. Attendees will discover how to create textures and backgrounds while completing a small painting to keep.\n\nThis event is open to the public. No prior artistic experience is necessary\; all that is required is a desire to learn and explore.\n\nEvent Details:\n\n\n	\n	When: May 9\, 2026\, from 11:30 AM to 1:00 PM\n	\n	\n	Where: Gresham Council Chambers\, 1331 NW Eastman Parkway\, Gresham\, OR\n	\n	\n	Cost: $15.00 includes all supplies for creating pastel painting\n	\n	\n	Experience Level: No prior art or painting experience is required\, ages 12 and up are welcome.\n	\n	\n	RSVP Required @ galaarts.org/upcoming
X-ALT-DESC;FMTTYPE=text/html:<p><span style="background-color:transparent\; color:rgb(31\, 31\, 31)\; font-family:arial\,sans-serif\; font-size:11pt">Join the community at the Gresham Council Chambers for a hands-on introduction to pastel painting. Local artist Donna Stevens will lead a simple paint along session where participants will learn to work with dry pastel sticks. Attendees will discover how to create textures and backgrounds while completing a small painting to keep.</span></p>\n\n<p><span style="background-color:transparent\; color:rgb(31\, 31\, 31)\; font-family:arial\,sans-serif\; font-size:11pt">This event is open to the public. No prior artistic experience is necessary\; all that is required is a desire to learn and explore.</span></p>\n\n<p><strong>Event Details:</strong></p>\n\n<ul>\n	<li>\n	<p><strong>When:</strong><span style="background-color:transparent\; color:rgb(31\, 31\, 31)\; font-size:11pt"> May 9\, 2026\, from 11:30 AM to 1:00 PM</span></p>\n	</li>\n	<li>\n	<p><strong>Where:</strong><span style="background-color:transparent\; color:rgb(31\, 31\, 31)\; font-size:11pt"> Gresham Council Chambers\, 1331 NW Eastman Parkway\, Gresham\, OR</span></p>\n	</li>\n	<li>\n	<p><span style="font-size:14px">Cost:<span style="background-color:transparent\; color:rgb(31\, 31\, 31)"> $15.00 includes all supplies for creating pastel painting</span></span></p>\n	</li>\n	<li>\n	<p><strong>Experience Level:</strong><span style="background-color:transparent\; font-size:11pt"> No prior art or painting experience is required\, </span><span style="color:rgb(34\, 34\, 34)\; font-size:11pt">ages 12 and up are welcome.</span></p>\n	</li>\n	<li>\n	<p><span style="background-color:transparent\; font-size:11pt">RSVP Required @</span><a href="https://www.galaarts.org/upcoming" style="text-decoration:none\;"><span style="background-color:transparent\; color:rgb(31\, 31\, 31)\; font-size:11pt"> </span><u>galaarts.org/upcoming</u></a></p>\n	</li>\n</ul>\n\n<div>&nbsp\;</div>\n
LOCATION:Location: Gresham Council Chambers\, 1331 NW Eastman Parkway\, Gresham\, OR
UID:e.1572.15501
SEQUENCE:3
DTSTAMP:20260424T145917Z
URL:http://greshamchamber.chambermaster.com/events/details/gala-education-saturday-pastel-painting-make-and-take-event-with-donna-stevens-15501
END:VEVENT

END:VCALENDAR
